BEGIN:VCALENDAR
VERSION:2.0
PRODID:-//Reform UK Bangor Aberconwy - ECPv6.15.14//NONSGML v1.0//EN
CALSCALE:GREGORIAN
METHOD:PUBLISH
X-ORIGINAL-URL:https://www.reform-bangor-aberconwy.wales
X-WR-CALDESC:Events for Reform UK Bangor Aberconwy
REFRESH-INTERVAL;VALUE=DURATION:PT1H
X-Robots-Tag:noindex
X-PUBLISHED-TTL:PT1H
BEGIN:VTIMEZONE
TZID:Europe/London
BEGIN:DAYLIGHT
TZOFFSETFROM:+0000
TZOFFSETTO:+0100
TZNAME:BST
DTSTART:20240331T010000
END:DAYLIGHT
BEGIN:STANDARD
TZOFFSETFROM:+0100
TZOFFSETTO:+0000
TZNAME:GMT
DTSTART:20241027T010000
END:STANDARD
BEGIN:DAYLIGHT
TZOFFSETFROM:+0000
TZOFFSETTO:+0100
TZNAME:BST
DTSTART:20250330T010000
END:DAYLIGHT
BEGIN:STANDARD
TZOFFSETFROM:+0100
TZOFFSETTO:+0000
TZNAME:GMT
DTSTART:20251026T010000
END:STANDARD
BEGIN:DAYLIGHT
TZOFFSETFROM:+0000
TZOFFSETTO:+0100
TZNAME:BST
DTSTART:20260329T010000
END:DAYLIGHT
BEGIN:STANDARD
TZOFFSETFROM:+0100
TZOFFSETTO:+0000
TZNAME:GMT
DTSTART:20261025T010000
END:STANDARD
END:VTIMEZONE
BEGIN:VEVENT
DTSTART;TZID=Europe/London:20250607T120000
DTEND;TZID=Europe/London:20250607T140000
DTSTAMP:20260421T094034
CREATED:20250514T083054Z
LAST-MODIFIED:20250516T161501Z
UID:2639-1749297600-1749304800@www.reform-bangor-aberconwy.wales
SUMMARY:Reform BAYM June Meeting
DESCRIPTION:Topics for discussion will include: \n\nIntroducing the Bangor Aberconwy Ynys Môn (BAYM) branch to anyone who has not attended previous meetings.\nDiscuss changes in Reform Wales\, including our new Director\, Dave Thomas\, who will visit us soon.\nDiscussing upcoming elections (by-elections\, Senedd\, local & GE).\nDiscussing our planned events for 2025.\nQuestions from members.\nAdding volunteers to our database.\nFundraising for election campaigns.\n\nTea\, coffee and biscuits will be provided. \nI hope as many of you as possible can join us.
URL:https://www.reform-bangor-aberconwy.wales/event/reform-baym-june-meeting/
LOCATION:Canolfan Penrhosgarnedd\, Canolfan Penrhosgarnedd\, Penrhosgarnedd\, Bangor\, LL57 2NN
CATEGORIES:Bangor Aberconwy Events
ATTACH;FMTTYPE=image/jpeg:https://www.reform-bangor-aberconwy.wales/wp-content/uploads/2024/05/Canolfan-Penrhosgarnedd-4.jpg
END:VEVENT
BEGIN:VEVENT
DTSTART;TZID=Europe/London:20250628T090000
DTEND;TZID=Europe/London:20250628T170000
DTSTAMP:20260421T094034
CREATED:20250516T101730Z
LAST-MODIFIED:20250516T102624Z
UID:2641-1751101200-1751130000@www.reform-bangor-aberconwy.wales
SUMMARY:Sioe Llanrwst Show
DESCRIPTION:
URL:https://www.reform-bangor-aberconwy.wales/event/sioe-llanrwst-show/
LOCATION:Sioe Llanrwst Show\, Y Dolydd\, Ffordd yr Orsaf\, Llanrwst\, LL26 0DS\, United Kingdom
CATEGORIES:Reform UK Events
ATTACH;FMTTYPE=image/jpeg:https://www.reform-bangor-aberconwy.wales/wp-content/uploads/2024/05/Eglwysbach-Show-winner.jpg
END:VEVENT
END:VCALENDAR