BEGIN:VCALENDAR
VERSION:2.0
PRODID:-//Reform UK Bangor Aberconwy - ECPv6.15.14//NONSGML v1.0//EN
CALSCALE:GREGORIAN
METHOD:PUBLISH
X-ORIGINAL-URL:https://www.reform-bangor-aberconwy.wales
X-WR-CALDESC:Events for Reform UK Bangor Aberconwy
REFRESH-INTERVAL;VALUE=DURATION:PT1H
X-Robots-Tag:noindex
X-PUBLISHED-TTL:PT1H
BEGIN:VTIMEZONE
TZID:Europe/London
BEGIN:DAYLIGHT
TZOFFSETFROM:+0000
TZOFFSETTO:+0100
TZNAME:BST
DTSTART:20230326T010000
END:DAYLIGHT
BEGIN:STANDARD
TZOFFSETFROM:+0100
TZOFFSETTO:+0000
TZNAME:GMT
DTSTART:20231029T010000
END:STANDARD
BEGIN:DAYLIGHT
TZOFFSETFROM:+0000
TZOFFSETTO:+0100
TZNAME:BST
DTSTART:20240331T010000
END:DAYLIGHT
BEGIN:STANDARD
TZOFFSETFROM:+0100
TZOFFSETTO:+0000
TZNAME:GMT
DTSTART:20241027T010000
END:STANDARD
BEGIN:DAYLIGHT
TZOFFSETFROM:+0000
TZOFFSETTO:+0100
TZNAME:BST
DTSTART:20250330T010000
END:DAYLIGHT
BEGIN:STANDARD
TZOFFSETFROM:+0100
TZOFFSETTO:+0000
TZNAME:GMT
DTSTART:20251026T010000
END:STANDARD
END:VTIMEZONE
BEGIN:VEVENT
DTSTART;TZID=Europe/London:20241108T100000
DTEND;TZID=Europe/London:20241108T190000
DTSTAMP:20260421T194607
CREATED:20241010T111540Z
LAST-MODIFIED:20241011T110458Z
UID:2209-1731060000-1731092400@www.reform-bangor-aberconwy.wales
SUMMARY:Reform UK Welsh Conference
DESCRIPTION:[vc_row][vc_column][vc_column_text]Join Nigel Farage at Reform UK’s Welsh Conference. With speeches from key figures\, talks and meetings starting the long haul preparation for the Senedd elections that will be taking place in May 2026\, just 19 months away! \nExpect practical sessions and presentations on all the aspects of organisation that will make our campaign go with a bang. \nThis is your chance to network with members and business delegates from across Wales\, meet new members and key figures from Reform UK. \nGet your ticket today\, be a vital part of the Reform movement and help shape the future of Welsh politics. \nOur Welsh conference is for Members of Reform UK. If you aren’t a Member yet\, and want to get involved in the most exciting and fastest growing party in Wales now is the time to join! \nWant to be an exhibitor? \nIf you’re a business or media outlet looking to host a stand at our Welsh conference\, please get in touch with our events team today by emailing events@reformuk.com[/vc_column_text][vc_btn title=”Get tickets” color=”info” size=”lg” css=”” link=”url:https%3A%2F%2Fwww.eventbrite.co.uk%2Fe%2Freform-uk-welsh-conference-tickets-1025385434437%3Ffbclid%3DIwY2xjawF15U1leHRuA2FlbQIxMAABHS94o3V4cEcaEvGWFWMWldGuG8T0i36513YZcNoQHHGuTNaJpiFo_se-Og_aem_hUhlsfmzio9SenAbhwmYSw|target:_blank”][/vc_column][/vc_row]
URL:https://www.reform-bangor-aberconwy.wales/event/reform-uk-welsh-conference/
LOCATION:The Celtic Manor Resort\, Chepstow Road\, Caerleon\, NP18 1HQ
CATEGORIES:Reform UK Events
ATTACH;FMTTYPE=image/jpeg:https://www.reform-bangor-aberconwy.wales/wp-content/uploads/2024/10/Reform-Wales-conference-2024.jpg
END:VEVENT
BEGIN:VEVENT
DTSTART;TZID=Europe/London:20241130T120000
DTEND;TZID=Europe/London:20241130T140000
DTSTAMP:20260421T194607
CREATED:20241103T150936Z
LAST-MODIFIED:20241103T151226Z
UID:2238-1732968000-1732975200@www.reform-bangor-aberconwy.wales
SUMMARY:Reform UK Bangor Aberconwy Ynys Môn November Meet
DESCRIPTION:Topics for discussion will include: \n\nIntroducing the Bangor Aberconwy Ynys Môn (BAYM) branch to anyone who has not attended previous meetings.\nA brief reminder of why Wales needs reform.\nDiscussing upcoming elections (Senedd\, local & GE).\nDiscussing our planned events for 2025.\nDetailing our fundraising plans.\nQuestions from members.\nAdding volunteers to our database.\n\nCoffee\, tea and biscuits will be provided. \nI hope as many of you as possible can join us.
URL:https://www.reform-bangor-aberconwy.wales/event/reform-uk-bangor-aberconwy-ynys-mon-november-meet/
LOCATION:Kingsland Community Centre\, Kingsland Community Centre\, Holyhead\, Ynys Mon\, LL65 2TF\, United Kingdom
CATEGORIES:Bangor Aberconwy Events,Reform UK Events
ATTACH;FMTTYPE=image/jpeg:https://www.reform-bangor-aberconwy.wales/wp-content/uploads/2024/11/Kingsland-Community-Centre.jpg
END:VEVENT
END:VCALENDAR