BEGIN:VCALENDAR
VERSION:2.0
PRODID:-//Reform UK Bangor Aberconwy - ECPv6.15.14//NONSGML v1.0//EN
CALSCALE:GREGORIAN
METHOD:PUBLISH
X-WR-CALNAME:Reform UK Bangor Aberconwy
X-ORIGINAL-URL:https://www.reform-bangor-aberconwy.wales
X-WR-CALDESC:Events for Reform UK Bangor Aberconwy
REFRESH-INTERVAL;VALUE=DURATION:PT1H
X-Robots-Tag:noindex
X-PUBLISHED-TTL:PT1H
BEGIN:VTIMEZONE
TZID:Europe/London
BEGIN:DAYLIGHT
TZOFFSETFROM:+0000
TZOFFSETTO:+0100
TZNAME:BST
DTSTART:20230326T010000
END:DAYLIGHT
BEGIN:STANDARD
TZOFFSETFROM:+0100
TZOFFSETTO:+0000
TZNAME:GMT
DTSTART:20231029T010000
END:STANDARD
BEGIN:DAYLIGHT
TZOFFSETFROM:+0000
TZOFFSETTO:+0100
TZNAME:BST
DTSTART:20240331T010000
END:DAYLIGHT
BEGIN:STANDARD
TZOFFSETFROM:+0100
TZOFFSETTO:+0000
TZNAME:GMT
DTSTART:20241027T010000
END:STANDARD
BEGIN:DAYLIGHT
TZOFFSETFROM:+0000
TZOFFSETTO:+0100
TZNAME:BST
DTSTART:20250330T010000
END:DAYLIGHT
BEGIN:STANDARD
TZOFFSETFROM:+0100
TZOFFSETTO:+0000
TZNAME:GMT
DTSTART:20251026T010000
END:STANDARD
END:VTIMEZONE
BEGIN:VEVENT
DTSTART;TZID=Europe/London:20241019T123000
DTEND;TZID=Europe/London:20241019T143000
DTSTAMP:20260421T210107
CREATED:20240822T203720Z
LAST-MODIFIED:20241010T104324Z
UID:1762-1729341000-1729348200@www.reform-bangor-aberconwy.wales
SUMMARY:Reform UK Bangor Aberconwy Ynys Môn October Meet
DESCRIPTION:Topics for discussion will include: \n\nIntroducing our branch committee members to anyone who did not make the Bangor meeting.\nDiscussing upcoming elections (Senedd\, local & GE).\nChoosing local events to attend in 2025.\nDetailing our fundraising plans.\nDiscussing Reform Wales and our upcoming conference.\nDiscussing our potential Christmas party.\nAdding volunteers to our database.\n\nCoffee\, tea and biscuits will be provided. \nI hope as many of you as possible can join us.
URL:https://www.reform-bangor-aberconwy.wales/event/reform-uk-bangor-aberconwy-ynys-mon-october-meet/
LOCATION:Llanrhos Old School\, 3 Cae Rhos\, Llanrhos\, Aberconwy\, LL30 1RW\, United Kingdom
CATEGORIES:Bangor Aberconwy Events,Reform UK Events
ATTACH;FMTTYPE=image/jpeg:https://www.reform-bangor-aberconwy.wales/wp-content/uploads/2023/11/Llanrhos-Old-School.jpg
END:VEVENT
END:VCALENDAR