BEGIN:VCALENDAR
VERSION:2.0
PRODID:-//Reform UK Bangor Aberconwy - ECPv6.15.14//NONSGML v1.0//EN
CALSCALE:GREGORIAN
METHOD:PUBLISH
X-ORIGINAL-URL:https://www.reform-bangor-aberconwy.wales
X-WR-CALDESC:Events for Reform UK Bangor Aberconwy
REFRESH-INTERVAL;VALUE=DURATION:PT1H
X-Robots-Tag:noindex
X-PUBLISHED-TTL:PT1H
BEGIN:VTIMEZONE
TZID:Europe/London
BEGIN:DAYLIGHT
TZOFFSETFROM:+0000
TZOFFSETTO:+0100
TZNAME:BST
DTSTART:20230326T010000
END:DAYLIGHT
BEGIN:STANDARD
TZOFFSETFROM:+0100
TZOFFSETTO:+0000
TZNAME:GMT
DTSTART:20231029T010000
END:STANDARD
BEGIN:DAYLIGHT
TZOFFSETFROM:+0000
TZOFFSETTO:+0100
TZNAME:BST
DTSTART:20240331T010000
END:DAYLIGHT
BEGIN:STANDARD
TZOFFSETFROM:+0100
TZOFFSETTO:+0000
TZNAME:GMT
DTSTART:20241027T010000
END:STANDARD
BEGIN:DAYLIGHT
TZOFFSETFROM:+0000
TZOFFSETTO:+0100
TZNAME:BST
DTSTART:20250330T010000
END:DAYLIGHT
BEGIN:STANDARD
TZOFFSETFROM:+0100
TZOFFSETTO:+0000
TZNAME:GMT
DTSTART:20251026T010000
END:STANDARD
END:VTIMEZONE
BEGIN:VEVENT
DTSTART;TZID=Europe/London:20240612T193000
DTEND;TZID=Europe/London:20240612T203000
DTSTAMP:20260422T031316
CREATED:20240601T082701Z
LAST-MODIFIED:20240605T144310Z
UID:1560-1718220600-1718224200@www.reform-bangor-aberconwy.wales
SUMMARY:Farmers’ Union of Wales Hustings
DESCRIPTION:“Following the Prime Minister’s recent announcement of the dissolution of Parliament\, with a General Election to be held on 4th July\, you will have received a letter from our President\, Mr Ian Rickman\, outlining the Farmers’ Union of Wales key asks of whoever may form the next UK Government\, along with a copy of our Manifesto. \nThe FUW will be holding hustings with Prospective Parliamentary Candidates in our counties across Wales\, and I would like to formally invite you to take part in our Bangor/Aberconwy hustings event at the Eagles Hotel\, Llanrwst on Wednesday evening the 12th of June at 19:30. \nWe will be holding this hustings jointly with NFU Cymru and Eryri Young Farmers Federation to allow candidates the opportunity to field questions from members from varying organisations within the same industry.”
URL:https://www.reform-bangor-aberconwy.wales/event/farmers-union-of-wales-hustings/
LOCATION:Eagles Hotel\, Eagles Hotel\, Ancaster Square\,\, Llanrwst\, LL26 0LG
CATEGORIES:Bangor Aberconwy Events
ATTACH;FMTTYPE=image/jpeg:https://www.reform-bangor-aberconwy.wales/wp-content/uploads/2024/06/fARMERS-HUSTINGS.jpg
END:VEVENT
BEGIN:VEVENT
DTSTART;TZID=Europe/London:20240615T123000
DTEND;TZID=Europe/London:20240615T143000
DTSTAMP:20260422T031316
CREATED:20240531T111247Z
LAST-MODIFIED:20240609T162821Z
UID:1556-1718454600-1718461800@www.reform-bangor-aberconwy.wales
SUMMARY:Llandudno - June 2024 Meeting
DESCRIPTION:With only days to go before the election\, Reform UK needs its supporters\, like you and me\, to spread our message to voters across Bangor Aberconwy with leaflets\, street stalls and by meeting as many of our friends and neighbours in our community before 4th July.  I hope you will join us in this very short campaign at our last Llandudno meeting prior to the 2024 General Election. \nTopics for discussion will include: \n\nMeeting Reform UK supporters.\nOrganising Bangor & Bethesda canvassing and leafleting tactics.\nRecruiting volunteers to put Reform UK signs in their windows or garden.\nRecruiting volunteers to help John Clark in Bangor street stalls.\nDiscussing election tactics and issues.\n\nWeather permitting we will leaflet Llandudno households after the meeting. \nLeaflets\, badges and car stickers will be available for anyone who needs to restock.
URL:https://www.reform-bangor-aberconwy.wales/event/llandudno-june-2024-meeting/
LOCATION:Llanrhos Old School\, 3 Cae Rhos\, Llanrhos\, Aberconwy\, LL30 1RW\, United Kingdom
CATEGORIES:Bangor Aberconwy Events
ATTACH;FMTTYPE=image/jpeg:https://www.reform-bangor-aberconwy.wales/wp-content/uploads/2023/11/Llanrhos-Old-School.jpg
END:VEVENT
BEGIN:VEVENT
DTSTART;TZID=Europe/London:20240622T100000
DTEND;TZID=Europe/London:20240622T160000
DTSTAMP:20260422T031316
CREATED:20240618T171435Z
LAST-MODIFIED:20240618T172017Z
UID:1645-1719050400-1719072000@www.reform-bangor-aberconwy.wales
SUMMARY:Leafletting Bangor
DESCRIPTION:Please let Brent or John know if you can attend this leafletting session.
URL:https://www.reform-bangor-aberconwy.wales/event/leafletting-bangor/
LOCATION:Bryn Eithinog and Belmont Rd junction
ATTACH;FMTTYPE=image/jpeg:https://www.reform-bangor-aberconwy.wales/wp-content/uploads/2024/06/LEAFLETTING-BANGOR.jpg
END:VEVENT
BEGIN:VEVENT
DTSTART;TZID=Europe/London:20240623T130000
DTEND;TZID=Europe/London:20240623T150000
DTSTAMP:20260422T031316
CREATED:20240526T105031Z
LAST-MODIFIED:20240615T194843Z
UID:1521-1719147600-1719154800@www.reform-bangor-aberconwy.wales
SUMMARY:Bangor Meeting - June 2024
DESCRIPTION:With only days to go\, Reform UK needs its supporters\, like you and me\, to spread our message to voters across Bangor Aberconwy with leaflets\, street stalls and by meeting as many of our friends and neighbours in our community before 4th July.  I hope you will join us in this very short campaign at our first Bangor meeting for local constituency supporters. \nTopics for discussion will include: \n\nMeeting Reform UK supporters.\nOrganising Bangor & Bethesda canvassing and leafleting tactics.\nRecruiting volunteers to put Reform UK signs in their windows or garden.\nRecruiting volunteers to help John Clark in Bangor street stalls.\nDiscussing election tactics and issues.\n\nWeather permitting we will leaflet Bangor households after the meeting. \nLeaflets\, badges and car stickers will be available for anyone who needs to restock.
URL:https://www.reform-bangor-aberconwy.wales/event/bangor-meeting-june-2024/
LOCATION:Canolfan Penrhosgarnedd\, Canolfan Penrhosgarnedd\, Penrhosgarnedd\, Bangor\, LL57 2NN
CATEGORIES:Bangor Aberconwy Events
ATTACH;FMTTYPE=image/jpeg:https://www.reform-bangor-aberconwy.wales/wp-content/uploads/2024/05/Canolfan-Penrhosgarnedd-4.jpg
END:VEVENT
BEGIN:VEVENT
DTSTART;TZID=Europe/London:20240625T190000
DTEND;TZID=Europe/London:20240625T210000
DTSTAMP:20260422T031316
CREATED:20240616T091548Z
LAST-MODIFIED:20240616T093736Z
UID:1632-1719342000-1719349200@www.reform-bangor-aberconwy.wales
SUMMARY:Bangor Cytun hustings
DESCRIPTION:Many groups are coming together to arrange this event: several faith groups\, Bangor and Anglesey Peace and Justice\, NWWales Climate Action and others
URL:https://www.reform-bangor-aberconwy.wales/event/bangor-cytun-hustings/
LOCATION:Bangor Quaker Meeting House\, Bangor Quaker Meeting House\, Dean Street\, Bangor\, Gwynedd\, LL57 1UR
CATEGORIES:Bangor Aberconwy Events
ATTACH;FMTTYPE=image/jpeg:https://www.reform-bangor-aberconwy.wales/wp-content/uploads/2024/06/quakers.jpg
END:VEVENT
BEGIN:VEVENT
DTSTART;TZID=Europe/London:20240628T190000
DTEND;TZID=Europe/London:20240628T190000
DTSTAMP:20260422T031316
CREATED:20240619T075946Z
LAST-MODIFIED:20240623T191237Z
UID:1651-1719601200-1719601200@www.reform-bangor-aberconwy.wales
SUMMARY:Llandudno Cytun Hustings
DESCRIPTION:Details to be published here soon
URL:https://www.reform-bangor-aberconwy.wales/event/hustings/
LOCATION:St.John’s Methodist Church\, Llandudno\, St.John’s Methodist Church\,\, Llandudno\, United Kingdom
CATEGORIES:Bangor Aberconwy Events
ATTACH;FMTTYPE=image/jpeg:https://www.reform-bangor-aberconwy.wales/wp-content/uploads/2024/06/St.Johns-Methodist-Church.jpg
END:VEVENT
END:VCALENDAR