BEGIN:VCALENDAR
VERSION:2.0
PRODID:-//Reform UK Bangor Aberconwy - ECPv6.15.14//NONSGML v1.0//EN
CALSCALE:GREGORIAN
METHOD:PUBLISH
X-WR-CALNAME:Reform UK Bangor Aberconwy
X-ORIGINAL-URL:https://www.reform-bangor-aberconwy.wales
X-WR-CALDESC:Events for Reform UK Bangor Aberconwy
REFRESH-INTERVAL;VALUE=DURATION:PT1H
X-Robots-Tag:noindex
X-PUBLISHED-TTL:PT1H
BEGIN:VTIMEZONE
TZID:Europe/London
BEGIN:DAYLIGHT
TZOFFSETFROM:+0000
TZOFFSETTO:+0100
TZNAME:BST
DTSTART:20230326T010000
END:DAYLIGHT
BEGIN:STANDARD
TZOFFSETFROM:+0100
TZOFFSETTO:+0000
TZNAME:GMT
DTSTART:20231029T010000
END:STANDARD
BEGIN:DAYLIGHT
TZOFFSETFROM:+0000
TZOFFSETTO:+0100
TZNAME:BST
DTSTART:20240331T010000
END:DAYLIGHT
BEGIN:STANDARD
TZOFFSETFROM:+0100
TZOFFSETTO:+0000
TZNAME:GMT
DTSTART:20241027T010000
END:STANDARD
BEGIN:DAYLIGHT
TZOFFSETFROM:+0000
TZOFFSETTO:+0100
TZNAME:BST
DTSTART:20250330T010000
END:DAYLIGHT
BEGIN:STANDARD
TZOFFSETFROM:+0100
TZOFFSETTO:+0000
TZNAME:GMT
DTSTART:20251026T010000
END:STANDARD
END:VTIMEZONE
BEGIN:VEVENT
DTSTART;TZID=Europe/London:20240518T123000
DTEND;TZID=Europe/London:20240518T143000
DTSTAMP:20260422T043759
CREATED:20240428T103458Z
LAST-MODIFIED:20240506T103800Z
UID:1446-1716035400-1716042600@www.reform-bangor-aberconwy.wales
SUMMARY:Bangor Aberconwy Reform May 2024 Meeting
DESCRIPTION:Our May 2024 meeting for local constituency supporters will again be in- Llanrhos Old School. \nTopics for discussion will include: \n\nOrganising local canvassing and leafleting tactics.\nRecruiting volunteers for our stall in The Eglwysbach Show.\nRecruiting volunteers for our street stalls in Bangor and Llandudno.\nRaising money for the upcoming General Election.\nDiscussing potential editorial subjects. Looking for volunteers to write editorial.\n\nPlease note\, there will be another group using the room before us. Please wait for Liz to usher us into the building at 12:30. Thanks. \nLeaflets\, badges and car stickers will be available for anyone who needs to restock. \nCoffee\, tea and biscuits will be provided. \nThis event is perfect for anyone who believes in Britain as an independent and proud democracy!
URL:https://www.reform-bangor-aberconwy.wales/event/bangor-aberconwy-reform-may-2024-meeting/
LOCATION:Llanrhos Old School\, 3 Cae Rhos\, Llanrhos\, Aberconwy\, LL30 1RW\, United Kingdom
CATEGORIES:Reform UK Events
ATTACH;FMTTYPE=image/jpeg:https://www.reform-bangor-aberconwy.wales/wp-content/uploads/2023/11/Llanrhos-Old-School.jpg
ORGANIZER;CN="Reform UK Bangor Aberconwy":MAILTO:aberconwy@reformuk.com
END:VEVENT
END:VCALENDAR