BEGIN:VCALENDAR
VERSION:2.0
PRODID:-//Reform UK Bangor Aberconwy - ECPv6.15.14//NONSGML v1.0//EN
CALSCALE:GREGORIAN
METHOD:PUBLISH
X-WR-CALNAME:Reform UK Bangor Aberconwy
X-ORIGINAL-URL:https://www.reform-bangor-aberconwy.wales
X-WR-CALDESC:Events for Reform UK Bangor Aberconwy
REFRESH-INTERVAL;VALUE=DURATION:PT1H
X-Robots-Tag:noindex
X-PUBLISHED-TTL:PT1H
BEGIN:VTIMEZONE
TZID:Europe/London
BEGIN:DAYLIGHT
TZOFFSETFROM:+0000
TZOFFSETTO:+0100
TZNAME:BST
DTSTART:20230326T010000
END:DAYLIGHT
BEGIN:STANDARD
TZOFFSETFROM:+0100
TZOFFSETTO:+0000
TZNAME:GMT
DTSTART:20231029T010000
END:STANDARD
BEGIN:DAYLIGHT
TZOFFSETFROM:+0000
TZOFFSETTO:+0100
TZNAME:BST
DTSTART:20240331T010000
END:DAYLIGHT
BEGIN:STANDARD
TZOFFSETFROM:+0100
TZOFFSETTO:+0000
TZNAME:GMT
DTSTART:20241027T010000
END:STANDARD
BEGIN:DAYLIGHT
TZOFFSETFROM:+0000
TZOFFSETTO:+0100
TZNAME:BST
DTSTART:20250330T010000
END:DAYLIGHT
BEGIN:STANDARD
TZOFFSETFROM:+0100
TZOFFSETTO:+0000
TZNAME:GMT
DTSTART:20251026T010000
END:STANDARD
END:VTIMEZONE
BEGIN:VEVENT
DTSTART;TZID=Europe/London:20240204T180000
DTEND;TZID=Europe/London:20240204T210000
DTSTAMP:20260422T091627
CREATED:20231204T173308Z
LAST-MODIFIED:20231212T110704Z
UID:1144-1707069600-1707080400@www.reform-bangor-aberconwy.wales
SUMMARY:Reform UK Wales Spring Conference
DESCRIPTION:Speakers will include: \nRichard Tice – Party Leader\nCaroline Jones – Head of Reform Wales\nKimberly Isherwood – Public Child Protection Wales\nOliver Lewis – Welsh Candidate\nJohn Clark – Welsh Candidate\nChristine Roache – Welsh Candidate\nVicki Roskams – Welsh Candidate\nIan Williams – Welsh Candidate\nGareth Beer – Welsh Candidate\nPatrick Benham-Crosswell – Welsh Candidate\nBernard Holton – Welsh Candidate \nPurchase tickets here:\nhttps://www.eventbrite.co.uk/e/reform-uk-wales-spring-conference-tickets-775742525777?aff=oddtdtcreator
URL:https://www.reform-bangor-aberconwy.wales/event/reform-wales-mini-conference/
LOCATION:Blanco’s Hotel & Restaurant\, Blanco's Hotel & Restaurant Green Park\, Port Talbot\, Wales\, SA12 6NT\, United Kingdom
CATEGORIES:Reform UK Events
ATTACH;FMTTYPE=image/jpeg:https://www.reform-bangor-aberconwy.wales/wp-content/uploads/2023/12/Richard-Tice.jpg
END:VEVENT
BEGIN:VEVENT
DTSTART;TZID=Europe/London:20240210T100000
DTEND;TZID=Europe/London:20240210T140000
DTSTAMP:20260422T091627
CREATED:20240120T200305Z
LAST-MODIFIED:20240120T211957Z
UID:1235-1707559200-1707573600@www.reform-bangor-aberconwy.wales
SUMMARY:Leafletting push
DESCRIPTION:Everyone welcome. \nContact Brent for details.
URL:https://www.reform-bangor-aberconwy.wales/event/leafletting-push/
CATEGORIES:Bangor Aberconwy Events,Reform UK Events
ATTACH;FMTTYPE=image/jpeg:https://www.reform-bangor-aberconwy.wales/wp-content/uploads/2024/01/Penrhyn-Bay.jpg
END:VEVENT
BEGIN:VEVENT
DTSTART;TZID=Europe/London:20240224T123000
DTEND;TZID=Europe/London:20240224T143000
DTSTAMP:20260422T091627
CREATED:20240120T193641Z
LAST-MODIFIED:20240128T172549Z
UID:1225-1708777800-1708785000@www.reform-bangor-aberconwy.wales
SUMMARY:Bangor Aberconwy Reform February 2024 Meeting
DESCRIPTION:Our February meeting for local constituency supporters will again be in- Llanrhos Old School. \nTopics for discussion will include: \n\nReview Reform UKs Welsh Conference.\nOrganising local canvassing and leafleting tactics.\nDiscussing potential editorial subjects. Looking for volunteers to write editorial.\n\nPlease note\, there will be another group using the room before us. Please wait for Liz to usher us into the building at 12:30. Thanks. \nLeaflets\, badges and car stickers will be available for anyone who needs to restock. \nCoffee\, tea and biscuits will be provided. \nThis event is perfect for anyone who believes in Britain as an independent and proud democracy!
URL:https://www.reform-bangor-aberconwy.wales/event/bangor-aberconwy-reform-february-2024-meeting/
LOCATION:Llanrhos Old School\, 3 Cae Rhos\, Llanrhos\, Aberconwy\, LL30 1RW\, United Kingdom
CATEGORIES:Reform UK Events
ATTACH;FMTTYPE=image/jpeg:https://www.reform-bangor-aberconwy.wales/wp-content/uploads/2023/11/Llanrhos-Old-School.jpg
ORGANIZER;CN="Reform UK Bangor Aberconwy":MAILTO:aberconwy@reformuk.com
END:VEVENT
END:VCALENDAR