BEGIN:VCALENDAR
VERSION:2.0
PRODID:-//Reform UK Bangor Aberconwy - ECPv6.15.14//NONSGML v1.0//EN
CALSCALE:GREGORIAN
METHOD:PUBLISH
X-WR-CALNAME:Reform UK Bangor Aberconwy
X-ORIGINAL-URL:https://www.reform-bangor-aberconwy.wales
X-WR-CALDESC:Events for Reform UK Bangor Aberconwy
REFRESH-INTERVAL;VALUE=DURATION:PT1H
X-Robots-Tag:noindex
X-PUBLISHED-TTL:PT1H
BEGIN:VTIMEZONE
TZID:Europe/London
BEGIN:DAYLIGHT
TZOFFSETFROM:+0000
TZOFFSETTO:+0100
TZNAME:BST
DTSTART:20220327T010000
END:DAYLIGHT
BEGIN:STANDARD
TZOFFSETFROM:+0100
TZOFFSETTO:+0000
TZNAME:GMT
DTSTART:20221030T010000
END:STANDARD
BEGIN:DAYLIGHT
TZOFFSETFROM:+0000
TZOFFSETTO:+0100
TZNAME:BST
DTSTART:20230326T010000
END:DAYLIGHT
BEGIN:STANDARD
TZOFFSETFROM:+0100
TZOFFSETTO:+0000
TZNAME:GMT
DTSTART:20231029T010000
END:STANDARD
BEGIN:DAYLIGHT
TZOFFSETFROM:+0000
TZOFFSETTO:+0100
TZNAME:BST
DTSTART:20240331T010000
END:DAYLIGHT
BEGIN:STANDARD
TZOFFSETFROM:+0100
TZOFFSETTO:+0000
TZNAME:GMT
DTSTART:20241027T010000
END:STANDARD
END:VTIMEZONE
BEGIN:VEVENT
DTSTART;TZID=Europe/London:20231119T120000
DTEND;TZID=Europe/London:20231119T140000
DTSTAMP:20260422T132440
CREATED:20231018T164245Z
LAST-MODIFIED:20231018T172011Z
UID:1066-1700395200-1700402400@www.reform-bangor-aberconwy.wales
SUMMARY:Bangor Aberconwy November Meeting
DESCRIPTION:Meeting for local constituency supporters. \nTopics for discussion will include: \n\nReviewing our new leaflet – design and content.\nOngoing discussion about local canvassing and leafleting tactics.\nDiscuss future meetings venue\, day of the week and time.\n\nLeaflets\, badges and car stickers will be available for anyone who needs to restock. \nCoffee\, tea and biscuits will be provided. \nThis event is perfect for anyone who believes in Britain as an independent and proud democracy!
URL:https://www.reform-bangor-aberconwy.wales/event/bangor-aberconwy-november-meeting-19-11-12/
LOCATION:Penrhyn Old Hall\, Llandudno\, LL30 3EE
CATEGORIES:Reform UK Events
ATTACH;FMTTYPE=image/jpeg:https://www.reform-bangor-aberconwy.wales/wp-content/uploads/2023/09/Penrhyn-Old-Hall-1.jpg
ORGANIZER;CN="Reform UK Bangor Aberconwy":MAILTO:aberconwy@reformuk.com
END:VEVENT
END:VCALENDAR